BEGIN:VCALENDAR
METHOD:PUBLISH
VERSION:2.0
PRODID:-//TYPO3/NONSGML News system (news)//EN
BEGIN:VEVENT
UID:news-897@stmwi.bayern.de
DTSTAMP:20260402T090435Z
DTSTART:20260518T163000Z
DTEND:20260518T180000Z
SUMMARY:PV nach 20 Jahren – Handlungsmöglichkeiten für Altanlagen
END:VEVENT
END:VCALENDAR
