BEGIN:VCALENDAR
METHOD:PUBLISH
VERSION:2.0
PRODID:-//TYPO3/NONSGML News system (news)//EN
BEGIN:VEVENT
UID:news-905@stmwi.bayern.de
DTSTAMP:20260413T121015Z
DTSTART:20260520T140000Z
DTEND:20260520T153000Z
SUMMARY:Split-Klimageräte zum Heizen und Kühlen
END:VEVENT
END:VCALENDAR
